{
 "version": 1.0,
 "tileBundlesPath": "./tile",
 "spatialReference": {
  "wkid": 102100,
  "latestWkid": 3857
 },
 "storageInfo": {
  "packetSize": 128,
  "storageFormat": "esriMapCacheStorageModeCompactV2"
 },
 "tileImageInfo": {
  "format": "PNG",
  "compressionQuality": 0,
  "bandCount": 1,
  "lercError": 0
 },
 "tileInfo": {
  "spatialReference": {
   "wkid": 102100,
   "latestWkid": 3857
  },
  "origin": {
   "x": -2.0037508342787E7,
   "y": 2.0037508342787E7
  },
  "rows": 256,
  "cols": 256,
  "dpi": 96,
  "lods": [
   {
    "level": 0,
    "resolution": 156543.033928,
    "scale": 5.91657527591555E8
   },
   {
    "level": 1,
    "resolution": 78271.5169639999,
    "scale": 2.95828763795777E8
   },
   {
    "level": 2,
    "resolution": 39135.7584820001,
    "scale": 1.47914381897889E8
   },
   {
    "level": 3,
    "resolution": 19567.8792409999,
    "scale": 7.3957190948944E7
   },
   {
    "level": 4,
    "resolution": 9783.93962049996,
    "scale": 3.6978595474472E7
   },
   {
    "level": 5,
    "resolution": 4891.96981024998,
    "scale": 1.8489297737236E7
   },
   {
    "level": 6,
    "resolution": 2445.98490512499,
    "scale": 9244648.868618
   },
   {
    "level": 7,
    "resolution": 1222.99245256249,
    "scale": 4622324.434309
   },
   {
    "level": 8,
    "resolution": 611.49622628138,
    "scale": 2311162.217155
   },
   {
    "level": 9,
    "resolution": 305.748113140558,
    "scale": 1155581.108577
   },
   {
    "level": 10,
    "resolution": 152.874056570411,
    "scale": 577790.554289
   },
   {
    "level": 11,
    "resolution": 76.4370282850732,
    "scale": 288895.277144
   },
   {
    "level": 12,
    "resolution": 38.2185141425366,
    "scale": 144447.638572
   },
   {
    "level": 13,
    "resolution": 19.1092570712683,
    "scale": 72223.819286
   },
   {
    "level": 14,
    "resolution": 9.55462853563415,
    "scale": 36111.909643
   },
   {
    "level": 15,
    "resolution": 4.77731426794937,
    "scale": 18055.954822
   },
   {
    "level": 16,
    "resolution": 2.38865713397468,
    "scale": 9027.977411
   },
   {
    "level": 17,
    "resolution": 1.19432856685505,
    "scale": 4513.988705
   },
   {
    "level": 18,
    "resolution": 0.597164283559817,
    "scale": 2256.994353
   },
   {
    "level": 19,
    "resolution": 0.298582141647617,
    "scale": 1128.497176
   },
   {
    "level": 20,
    "resolution": 0.14929107082380833,
    "scale": 564.248588
   },
   {
    "level": 21,
    "resolution": 0.07464553541190416,
    "scale": 282.124294
   },
   {
    "level": 22,
    "resolution": 0.03732276770595208,
    "scale": 141.062147
   },
   {
    "level": 23,
    "resolution": 0.01866138385297604,
    "scale": 70.5310735
   }
  ],
  "format": "PNG",
  "compressionQuality": 0,
  "bandCount": 1,
  "lercError": 0,
  "storageFormat": "esriMapCacheStorageModeCompactV2",
  "packetSize": 128
 },
 "name": "マップ",
 "serviceDescription": "",
 "units": "esriMeters",
 "minLOD": 5,
 "maxLOD": 15,
 "resampling": true,
 "layers": [
  {
   "id": 0,
   "name": "全国液状化発生傾向2020",
   "parentLayerId": -1,
   "defaultVisibility": true,
   "subLayerIds": null,
   "minScale": 0,
   "maxScale": 0,
   "type": "Feature Layer",
   "geometryType": "esriGeometryPolygon",
   "supportsDynamicLegends": true,
   "legend": [
    {
     "label": "1",
     "imageData": "iVBORw0KGgoAAAANSUhEUgAAABQAAAAUCAYAAACNiR0NAAAACXBIWXMAAA7EAAAOxAGVKw4bAAAANElEQVQ4jWM5ceL0fwYqAhZqGgYCowZSDlioYAYKGDWQcsBCBTNQwKiBlAMWKpjBMMINBAA+OQOr7rojKQAAAABJRU5ErkJggg==",
     "contentType": "image/png",
     "groupId": "0",
     "height": 20,
     "width": 20,
     "values": [
      "1"
     ],
     "layerId": 0,
     "layerName": "全国液状化発生傾向2020"
    },
    {
     "label": "2",
     "imageData": "iVBORw0KGgoAAAANSUhEUgAAABQAAAAUCAYAAACNiR0NAAAACXBIWXMAAA7EAAAOxAGVKw4bAAAANElEQVQ4jWM5ceL0fwYqAhZqGgYCowZSDlioYAYKGDWQcsBCBTNQwKiBlAMWKpjBMMINBAA+OQOr7rojKQAAAABJRU5ErkJggg==",
     "contentType": "image/png",
     "groupId": "0",
     "height": 20,
     "width": 20,
     "values": [
      "2"
     ],
     "layerId": 0,
     "layerName": "全国液状化発生傾向2020"
    },
    {
     "label": "3",
     "imageData": "iVBORw0KGgoAAAANSUhEUgAAABQAAAAUCAYAAACNiR0NAAAACXBIWXMAAA7EAAAOxAGVKw4bAAAANElEQVQ4jWM5ceL0fwYqAhZqGgYCowZSDlioYAYKGDWQcsBCBTNQwKiBlAMWKpjBMMINBAA+OQOr7rojKQAAAABJRU5ErkJggg==",
     "contentType": "image/png",
     "groupId": "0",
     "height": 20,
     "width": 20,
     "values": [
      "3"
     ],
     "layerId": 0,
     "layerName": "全国液状化発生傾向2020"
    },
    {
     "label": "4",
     "imageData": "iVBORw0KGgoAAAANSUhEUgAAABQAAAAUCAYAAACNiR0NAAAACXBIWXMAAA7EAAAOxAGVKw4bAAAANElEQVQ4jWM5ceL0fwYqAhZqGgYCowZSDlioYAYKGDWQcsBCBTNQwKiBlAMWKpjBMMINBAA+OQOr7rojKQAAAABJRU5ErkJggg==",
     "contentType": "image/png",
     "groupId": "0",
     "height": 20,
     "width": 20,
     "values": [
      "4"
     ],
     "layerId": 0,
     "layerName": "全国液状化発生傾向2020"
    },
    {
     "label": "5",
     "imageData": "iVBORw0KGgoAAAANSUhEUgAAABQAAAAUCAYAAACNiR0NAAAACXBIWXMAAA7EAAAOxAGVKw4bAAAANElEQVQ4jWM5ceL0fwYqAhZqGgYCowZSDlioYAYKGDWQcsBCBTNQwKiBlAMWKpjBMMINBAA+OQOr7rojKQAAAABJRU5ErkJggg==",
     "contentType": "image/png",
     "groupId": "0",
     "height": 20,
     "width": 20,
     "values": [
      "5"
     ],
     "layerId": 0,
     "layerName": "全国液状化発生傾向2020"
    },
    {
     "label": "6",
     "imageData": "iVBORw0KGgoAAAANSUhEUgAAABQAAAAUCAYAAACNiR0NAAAACXBIWXMAAA7EAAAOxAGVKw4bAAAANElEQVQ4jWM5ceL0fwYqAhZqGgYCowZSDlioYAYKGDWQcsBCBTNQwKiBlAMWKpjBMMINBAA+OQOr7rojKQAAAABJRU5ErkJggg==",
     "contentType": "image/png",
     "groupId": "0",
     "height": 20,
     "width": 20,
     "values": [
      "6"
     ],
     "layerId": 0,
     "layerName": "全国液状化発生傾向2020"
    },
    {
     "label": "7",
     "imageData": "iVBORw0KGgoAAAANSUhEUgAAABQAAAAUCAYAAACNiR0NAAAACXBIWXMAAA7EAAAOxAGVKw4bAAAANElEQVQ4jWM5ceL0fwYqAhZqGgYCowZSDlioYAYKGDWQcsBCBTNQwKiBlAMWKpjBMMINBAA+OQOr7rojKQAAAABJRU5ErkJggg==",
     "contentType": "image/png",
     "groupId": "0",
     "height": 20,
     "width": 20,
     "values": [
      "7"
     ],
     "layerId": 0,
     "layerName": "全国液状化発生傾向2020"
    },
    {
     "label": "8",
     "imageData": "iVBORw0KGgoAAAANSUhEUgAAABQAAAAUCAYAAACNiR0NAAAACXBIWXMAAA7EAAAOxAGVKw4bAAAANElEQVQ4jWM5ceL0fwYqAhZqGgYCowZSDlioYAYKGDWQcsBCBTNQwKiBlAMWKpjBMMINBAA+OQOr7rojKQAAAABJRU5ErkJggg==",
     "contentType": "image/png",
     "groupId": "0",
     "height": 20,
     "width": 20,
     "values": [
      "8"
     ],
     "layerId": 0,
     "layerName": "全国液状化発生傾向2020"
    },
    {
     "label": "9",
     "imageData": "iVBORw0KGgoAAAANSUhEUgAAABQAAAAUCAYAAACNiR0NAAAACXBIWXMAAA7EAAAOxAGVKw4bAAAANElEQVQ4jWM5ceL0fwYqAhZqGgYCowZSDlioYAYKGDWQcsBCBTNQwKiBlAMWKpjBMMINBAA+OQOr7rojKQAAAABJRU5ErkJggg==",
     "contentType": "image/png",
     "groupId": "0",
     "height": 20,
     "width": 20,
     "values": [
      "9"
     ],
     "layerId": 0,
     "layerName": "全国液状化発生傾向2020"
    },
    {
     "label": "10",
     "imageData": "iVBORw0KGgoAAAANSUhEUgAAABQAAAAUCAYAAACNiR0NAAAACXBIWXMAAA7EAAAOxAGVKw4bAAAAMklEQVQ4je3MoREAMAwDMYPff9vi9AqDbVZrADFHoyCS2dPQR+BYGvoIHEtDH4FDn4cXtBADRK+ct0gAAAAASUVORK5CYII=",
     "contentType": "image/png",
     "groupId": "0",
     "height": 20,
     "width": 20,
     "values": [
      "10"
     ],
     "layerId": 0,
     "layerName": "全国液状化発生傾向2020"
    },
    {
     "label": "11",
     "imageData": "iVBORw0KGgoAAAANSUhEUgAAABQAAAAUCAYAAACNiR0NAAAACXBIWXMAAA7EAAAOxAGVKw4bAAAAMklEQVQ4je3MoREAMAwDMYPff9vi9AqDbVZrADFHoyCS2dPQR+BYGvoIHEtDH4FDn4cXtBADRK+ct0gAAAAASUVORK5CYII=",
     "contentType": "image/png",
     "groupId": "0",
     "height": 20,
     "width": 20,
     "values": [
      "11"
     ],
     "layerId": 0,
     "layerName": "全国液状化発生傾向2020"
    },
    {
     "label": "12",
     "imageData": "iVBORw0KGgoAAAANSUhEUgAAABQAAAAUCAYAAACNiR0NAAAACXBIWXMAAA7EAAAOxAGVKw4bAAAAM0lEQVQ4jWP5r8Hwn4GKgIWahoHAqIGUAxYqmIECRg2kHLBQwQwUMGog5YCFCmYwjHADAaQbAnedqGuJAAAAAElFTkSuQmCC",
     "contentType": "image/png",
     "groupId": "0",
     "height": 20,
     "width": 20,
     "values": [
      "12"
     ],
     "layerId": 0,
     "layerName": "全国液状化発生傾向2020"
    },
    {
     "label": "13",
     "imageData": "iVBORw0KGgoAAAANSUhEUgAAABQAAAAUCAYAAACNiR0NAAAACXBIWXMAAA7EAAAOxAGVKw4bAAAAM0lEQVQ4je3MsREAMAwCMYrff5As6VxK19AFDSDmaBREMnsa+ggcS0MfgWNp6CNw6PPwAtnsAvkPHcA2AAAAAElFTkSuQmCC",
     "contentType": "image/png",
     "groupId": "0",
     "height": 20,
     "width": 20,
     "values": [
      "13"
     ],
     "layerId": 0,
     "layerName": "全国液状化発生傾向2020"
    },
    {
     "label": "14",
     "imageData": "iVBORw0KGgoAAAANSUhEUgAAABQAAAAUCAYAAACNiR0NAAAACXBIWXMAAA7EAAAOxAGVKw4bAAAAM0lEQVQ4je3MsREAMAwCMYrff65s5VxK19AFDSCOZhREMnsa+ggcS0MfgWNp6CNw6PPwApZhAxdyCWSkAAAAAElFTkSuQmCC",
     "contentType": "image/png",
     "groupId": "0",
     "height": 20,
     "width": 20,
     "values": [
      "14"
     ],
     "layerId": 0,
     "layerName": "全国液状化発生傾向2020"
    },
    {
     "label": "15",
     "imageData": "iVBORw0KGgoAAAANSUhEUgAAABQAAAAUCAYAAACNiR0NAAAACXBIWXMAAA7EAAAOxAGVKw4bAAAAM0lEQVQ4jWP5r8Hwn4GKgIWahoHAqIGUAxYqmIECRg2kHLBQwQwUMGog5YCFCmYwjHADAaQbAnedqGuJAAAAAElFTkSuQmCC",
     "contentType": "image/png",
     "groupId": "0",
     "height": 20,
     "width": 20,
     "values": [
      "15"
     ],
     "layerId": 0,
     "layerName": "全国液状化発生傾向2020"
    },
    {
     "label": "16",
     "imageData": "iVBORw0KGgoAAAANSUhEUgAAABQAAAAUCAYAAACNiR0NAAAACXBIWXMAAA7EAAAOxAGVKw4bAAAAM0lEQVQ4je3MsREAMAwCMYrff5As6VxK19AFDSDmaBREMnsa+ggcS0MfgWNp6CNw6PPwAtnsAvkPHcA2AAAAAElFTkSuQmCC",
     "contentType": "image/png",
     "groupId": "0",
     "height": 20,
     "width": 20,
     "values": [
      "16"
     ],
     "layerId": 0,
     "layerName": "全国液状化発生傾向2020"
    },
    {
     "label": "17",
     "imageData": "iVBORw0KGgoAAAANSUhEUgAAABQAAAAUCAYAAACNiR0NAAAACXBIWXMAAA7EAAAOxAGVKw4bAAAAMklEQVQ4je3MoREAMAwDMYPff9vi9AqDbVZrADFHoyCS2dPQR+BYGvoIHEtDH4FDn4cXtBADRK+ct0gAAAAASUVORK5CYII=",
     "contentType": "image/png",
     "groupId": "0",
     "height": 20,
     "width": 20,
     "values": [
      "17"
     ],
     "layerId": 0,
     "layerName": "全国液状化発生傾向2020"
    },
    {
     "label": "18",
     "imageData": "iVBORw0KGgoAAAANSUhEUgAAABQAAAAUCAYAAACNiR0NAAAACXBIWXMAAA7EAAAOxAGVKw4bAAAAM0lEQVQ4je3MsREAMAwCMYrff65s5VxK19AFDSCOZhREMnsa+ggcS0MfgWNp6CNw6PPwApZhAxdyCWSkAAAAAElFTkSuQmCC",
     "contentType": "image/png",
     "groupId": "0",
     "height": 20,
     "width": 20,
     "values": [
      "18"
     ],
     "layerId": 0,
     "layerName": "全国液状化発生傾向2020"
    },
    {
     "label": "19",
     "imageData": "iVBORw0KGgoAAAANSUhEUgAAABQAAAAUCAYAAACNiR0NAAAACXBIWXMAAA7EAAAOxAGVKw4bAAAAM0lEQVQ4jWP5r8Hwn4GKgIWahoHAqIGUAxYqmIECRg2kHLBQwQwUMGog5YCFCmYwjHADAaQbAnedqGuJAAAAAElFTkSuQmCC",
     "contentType": "image/png",
     "groupId": "0",
     "height": 20,
     "width": 20,
     "values": [
      "19"
     ],
     "layerId": 0,
     "layerName": "全国液状化発生傾向2020"
    },
    {
     "label": "20",
     "imageData": "iVBORw0KGgoAAAANSUhEUgAAABQAAAAUCAYAAACNiR0NAAAACXBIWXMAAA7EAAAOxAGVKw4bAAAAM0lEQVQ4je3MsREAMAwCMYrff65s5VxK19AFDSCOZhREMnsa+ggcS0MfgWNp6CNw6PPwApZhAxdyCWSkAAAAAElFTkSuQmCC",
     "contentType": "image/png",
     "groupId": "0",
     "height": 20,
     "width": 20,
     "values": [
      "20"
     ],
     "layerId": 0,
     "layerName": "全国液状化発生傾向2020"
    },
    {
     "label": "21",
     "imageData": "iVBORw0KGgoAAAANSUhEUgAAABQAAAAUCAYAAACNiR0NAAAACXBIWXMAAA7EAAAOxAGVKw4bAAAANElEQVQ4jWM5ceL0fwYqAhZqGgYCowZSDlioYAYKGDWQcsBCBTNQwKiBlAMWKpjBMMINBAA+OQOr7rojKQAAAABJRU5ErkJggg==",
     "contentType": "image/png",
     "groupId": "0",
     "height": 20,
     "width": 20,
     "values": [
      "21"
     ],
     "layerId": 0,
     "layerName": "全国液状化発生傾向2020"
    },
    {
     "label": "22",
     "imageData": "iVBORw0KGgoAAAANSUhEUgAAABQAAAAUCAYAAACNiR0NAAAACXBIWXMAAA7EAAAOxAGVKw4bAAAAMklEQVQ4je3MoREAMAwDMYPff9vi9AqDbVZrADFHoyCS2dPQR+BYGvoIHEtDH4FDn4cXtBADRK+ct0gAAAAASUVORK5CYII=",
     "contentType": "image/png",
     "groupId": "0",
     "height": 20,
     "width": 20,
     "values": [
      "22"
     ],
     "layerId": 0,
     "layerName": "全国液状化発生傾向2020"
    },
    {
     "label": "23",
     "imageData": "iVBORw0KGgoAAAANSUhEUgAAABQAAAAUCAYAAACNiR0NAAAACXBIWXMAAA7EAAAOxAGVKw4bAAAAKklEQVQ4je3MIQEAAAzDsIP613w83MFFQLgyFmr4Ii30KBxhoUfhCAtPexArAFF5acCuAAAAAElFTkSuQmCC",
     "contentType": "image/png",
     "groupId": "0",
     "height": 20,
     "width": 20,
     "values": [
      "23"
     ],
     "layerId": 0,
     "layerName": "全国液状化発生傾向2020"
    },
    {
     "label": "24",
     "imageData": "iVBORw0KGgoAAAANSUhEUgAAABQAAAAUCAYAAACNiR0NAAAACXBIWXMAAA7EAAAOxAGVKw4bAAAAKklEQVQ4je3MIQEAAAzDsIP613w83MFFQLgyFmr4Ii30KBxhoUfhCAtPexArAFF5acCuAAAAAElFTkSuQmCC",
     "contentType": "image/png",
     "groupId": "0",
     "height": 20,
     "width": 20,
     "values": [
      "24"
     ],
     "layerId": 0,
     "layerName": "全国液状化発生傾向2020"
    },
    {
     "label": "25",
     "imageData": "iVBORw0KGgoAAAANSUhEUgAAABQAAAAUCAYAAACNiR0NAAAACXBIWXMAAA7EAAAOxAGVKw4bAAAAM0lEQVQ4je3MsREAMAwCMYrff65s5VxK19AFDSCOZhREMnsa+ggcS0MfgWNp6CNw6PPwApZhAxdyCWSkAAAAAElFTkSuQmCC",
     "contentType": "image/png",
     "groupId": "0",
     "height": 20,
     "width": 20,
     "values": [
      "25"
     ],
     "layerId": 0,
     "layerName": "全国液状化発生傾向2020"
    },
    {
     "label": "26",
     "imageData": "iVBORw0KGgoAAAANSUhEUgAAABQAAAAUCAYAAACNiR0NAAAACXBIWXMAAA7EAAAOxAGVKw4bAAAAM0lEQVQ4je3MsREAMAwCMYrff5As6VxK19AFDSDmaBREMnsa+ggcS0MfgWNp6CNw6PPwAtnsAvkPHcA2AAAAAElFTkSuQmCC",
     "contentType": "image/png",
     "groupId": "0",
     "height": 20,
     "width": 20,
     "values": [
      "26"
     ],
     "layerId": 0,
     "layerName": "全国液状化発生傾向2020"
    },
    {
     "label": "27",
     "imageData": "iVBORw0KGgoAAAANSUhEUgAAABQAAAAUCAYAAACNiR0NAAAACXBIWXMAAA7EAAAOxAGVKw4bAAAAM0lEQVQ4je3MsREAMAwCMYrff5As6VxK19AFDSDmaBREMnsa+ggcS0MfgWNp6CNw6PPwAtnsAvkPHcA2AAAAAElFTkSuQmCC",
     "contentType": "image/png",
     "groupId": "0",
     "height": 20,
     "width": 20,
     "values": [
      "27"
     ],
     "layerId": 0,
     "layerName": "全国液状化発生傾向2020"
    },
    {
     "label": "28",
     "imageData": "iVBORw0KGgoAAAANSUhEUgAAABQAAAAUCAYAAACNiR0NAAAACXBIWXMAAA7EAAAOxAGVKw4bAAAAM0lEQVQ4je3MsREAMAwCMYrff5As6VxK19AFDSDmaBREMnsa+ggcS0MfgWNp6CNw6PPwAtnsAvkPHcA2AAAAAElFTkSuQmCC",
     "contentType": "image/png",
     "groupId": "0",
     "height": 20,
     "width": 20,
     "values": [
      "28"
     ],
     "layerId": 0,
     "layerName": "全国液状化発生傾向2020"
    },
    {
     "label": "<その他の値すべて>",
     "imageData": "iVBORw0KGgoAAAANSUhEUgAAABQAAAAUCAYAAACNiR0NAAAACXBIWXMAAA7EAAAOxAGVKw4bAAAAKklEQVQ4je3MIQEAAAzDsIP613w83MFFQLgyFmr4Ii30KBxhoUfhCAtPexArAFF5acCuAAAAAElFTkSuQmCC",
     "contentType": "image/png",
     "groupId": "1",
     "height": 20,
     "width": 20,
     "layerId": 0,
     "layerName": "全国液状化発生傾向2020"
    }
   ],
   "layerId": 0,
   "layerName": "全国液状化発生傾向2020",
   "serviceItemId": "24e4b22d1f874217ad535d0b9939895c"
  }
 ],
 "initialExtent": {
  "xmin": 1.3684644152580613E7,
  "ymin": 2323199.0884054303,
  "xmax": 1.7141810088529214E7,
  "ymax": 5709852.126009389,
  "spatialReference": {
   "wkid": 102100,
   "latestWkid": 3857
  }
 },
 "fullExtent": {
  "xmin": 1.3684644152580613E7,
  "ymin": 2323199.0884054303,
  "xmax": 1.7141810088529214E7,
  "ymax": 5709852.126009389,
  "spatialReference": {
   "wkid": 102100,
   "latestWkid": 3857
  }
 },
 "minScale": 0,
 "maxScale": 0,
 "exportTilesAllowed": false,
 "maxExportTilesCount": 0,
 "currentVersion": 11.1,
 "mapName": "マップ",
 "singleFusedMapCache": true,
 "type": "MapServer",
 "supportedExtensions": "",
 "capabilities": "TilesOnly,Tilemap",
 "serviceItemId": "24e4b22d1f874217ad535d0b9939895c"
}
