View In:
ArcGIS JavaScript
ArcGIS Online Map Viewer
ArcGIS Earth
ArcGIS Pro
Service Description:
Map Name: contour_iwakisan
Legend
All Layers and Tables
Dynamic Legend
Dynamic All Layers
Layers:
Description:
Service Item Id: 3702129692b149b4ac141885e058c085
Copyright Text:
Spatial Reference:
102100
(3857)
Single Fused Map Cache: true
Tile Info:
- Height: 256
- Width: 256
- DPI: 96
-
Levels of Detail: 24
-
Level ID: 1
[ Start Tile, End Tile ]
- Resolution: 78271.5169639999
- Scale: 2.95828763795777E8
-
Level ID: 2
[ Start Tile, End Tile ]
- Resolution: 39135.7584820001
- Scale: 1.47914381897889E8
-
Level ID: 3
[ Start Tile, End Tile ]
- Resolution: 19567.8792409999
- Scale: 7.3957190948944E7
-
Level ID: 4
[ Start Tile, End Tile ]
- Resolution: 9783.93962049996
- Scale: 3.6978595474472E7
-
Level ID: 5
[ Start Tile, End Tile ]
- Resolution: 4891.96981024998
- Scale: 1.8489297737236E7
- Format: Mixed
- Compression Quality: 75.0
- Origin: X: -2.0037508342787E7
Y: 2.0037508342787E7
- Spatial Reference: 102100
(3857)
Storage Info:
- Storage Format: esriMapCacheStorageModeCompactV2
- Packet Size: 128
Initial Extent:
XMin: 1.5594710514740616E7
YMin: 4945320.3124698
XMax: 1.5647958578998141E7
YMax: 4987288.136259091
Spatial Reference: 102100
Full Extent:
XMin: 1.5597130881297778E7
YMin: 4949022.887166336
XMax: 1.564553821244098E7
YMax: 4983585.561562555
Spatial Reference: 102100
Units: esriMeters
Supported Image Format Types: PNG32,PNG24,PNG,JPG,DIB,TIFF,EMF,PS,PDF,GIF,SVG,SVGZ,BMP
Document Info:
Title: contour_iwakisan
Author:
Comments:
Subject:
Category:
Keywords:
AntialiasingMode: Fast
TextAntialiasingMode: Force
Supports Dynamic Layers: true
MaxRecordCount: 2000
MaxImageHeight: 4096
MaxImageWidth: 4096
Supported Query Formats: JSON, geoJSON, PBF
Supports Query Data Elements: true
Min Scale: 2311162
Max Scale: 1892
Supports Datum Transformation: true
Child Resources:
Info
Dynamic Layer
Supported Operations:
Export Map
Identify
QueryLegends
QueryDomains
Find
Return Updates